BEGIN:VCALENDAR
VERSION:2.0
PRODID:-//Bodocco - ぼどっこ - ECPv4.5.9//NONSGML v1.0//EN
CALSCALE:GREGORIAN
METHOD:PUBLISH
X-WR-CALNAME:Bodocco - ぼどっこ
X-ORIGINAL-URL:https://bodocco.com
X-WR-CALDESC:Events for Bodocco - ぼどっこ
BEGIN:VEVENT
DTSTART;TZID=Asia/Tokyo:20170918T090000
DTEND;TZID=Asia/Tokyo:20170918T210000
DTSTAMP:20260420T093451
CREATED:20170915T083249Z
LAST-MODIFIED:20180718T224459Z
UID:2947-1505725200-1505768400@bodocco.com
SUMMARY:[横浜市] 田園都市線 市が尾ボードゲーム会
DESCRIPTION:神奈川県横浜市青葉区市ヶ尾でボードゲームを遊ぶ会「市が尾ボードゲーム会」を開催します。\n皆さんで国内、海外のボードゲームを持ち寄って遊びましょう。\n参加されたい方はTwiPla上で参加表明をお願いします。 \n手ぶらでお越しいただいても大丈夫です。 \n誰でも参加できて、好きな時間に来て、思う存分遊び、気が向いた時間に帰って頂けます。\nご質問があればお気軽にお問合せ下さい。 \n■場所\n青葉公会堂\nhttp://www.aoba-kokaido.com/facility/about/conference.html \n■アクセス\n田園都市線市が尾駅より徒歩10分程度 \n駐車場あり。\n1日最大600円自己負担いただくことで区役所の駐車場を借りられます。\n(30分あたり150円。但し最大で600円です。)\n利用にあたり申請は必要ありません。一般の有料駐車場のように利用後に無人の清算機で清算します。 \n■会費\n大人: 500円\n高校生: 200円\n中学生以下: 無料 \n■注意事項\n・Twiplaで参加表明した方を優先します。参加表明せずにお越しいただいた方は入場をお断りすることがあります。\n・軽飲食可です。ゴミは各自持ち帰り下さい。\n・館内に飲み物の自販機があります。\n・長時間遊ぶ方は事前に軽食を購入されることをお勧めします。\n・ゲームはすべて個人の所有物です。大切に扱ってください。\n・本会は人と人との交流の場です。ルールや節度を守り遊んでください。\n・金銭、物品を扱う賭博行為を禁じます。\n・ナンパ、宗教の勧誘、営利目的の営業行為(マルチ、ねずみ講など)はご遠慮ください。 \n・キャッシュフロー、アチーバス、7つの習慣などのゲーム(以下自己啓発促進ゲームと呼称)を遊ぶことを禁止します。\n・自己啓発促進ゲームの関係者(ゲームデザインに携わった方、公認ナビゲーター、自己啓発促進ゲームを遊ぶことを目的としたゲーム会主催者など)の参加もお断りします。 \n・館内は禁煙です。指定された場所で喫煙ください。\n・卓上を撮影します。顔など個人を特定できる部分の撮影は控えるように配慮させていただきます。\n・その他、何か問題が生じた場合は主催者(Xeil)の指示に従っていただきます。 \n下記ゲームはお断りしております。\n・電源を使うゲーム(PSP、DS、iPadなど)\n・トレーディングカードゲーム(MtG、遊戯王など) \n1時間前後の中量級ゲームから2時間以上の重量級ゲームが好まれて遊ばれています。 \n軽いゲームを中心に遊ばれている方もいらっしゃいますのでご安心ください。 \n■主催者所有ゲーム\nhttps://docs.google.com/spreadsheets/d/15kWCU83ONqCj3Xon7OTaCBqCj0eP1xiObkN0viut_hI/edit?pli=1#gid=0 \n■分かりづらい色がある方、および色弱の方へ\n分かりづらい色があれば遊ぶ前に遠慮なくお申し付けください。私も色弱です。\n色弱でも遊べる方法をいくつか心得ております。 \n■お子様とご参加の方へ\n・ボードゲームを遊ぶだけでなく、お子様が社交性を学ぶ場ともご理解いただくことが前提となります。「大人と同様に扱います」ので、了承のうえご参加くださいませ。\n・お子様が遊びたいものを100%遊べる保証はありません(他参加者の希望も考慮したり、面子が揃うまで待つこともあります)。\n・他の参加者に迷惑をかける場合は、主催者の指示に従って退席いただくことがあります。\n・責任はお子様には取れませんので、ご一緒される親御様に担っていただくことになります。 \n
URL:https://bodocco.com/event/xeil/2017-09-18/
LOCATION:青葉区市ヶ尾町31番地4\, 横浜市\, 神奈川県\, 225-0024\, Japan
GEO:35.553835;139.5361883
X-APPLE-STRUCTURED-LOCATION;VALUE=URI;X-ADDRESS=青葉区市ヶ尾町31番地4 横浜市 神奈川県 225-0024 Japan;X-APPLE-RADIUS=500;X-TITLE=青葉区市ヶ尾町31番地4:geo:139.5361883,35.553835
CATEGORIES:神奈川県
ATTACH;FMTTYPE=image/jpeg:https://bodocco.com/wp-content/uploads/2017/09/Xeil.jpg
END:VEVENT
END:VCALENDAR