BEGIN:VCALENDAR
VERSION:2.0
PRODID:-//Bodocco - ぼどっこ - ECPv4.5.9//NONSGML v1.0//EN
CALSCALE:GREGORIAN
METHOD:PUBLISH
X-WR-CALNAME:Bodocco - ぼどっこ
X-ORIGINAL-URL:https://bodocco.com
X-WR-CALDESC:Events for Bodocco - ぼどっこ
BEGIN:VEVENT
DTSTART;TZID=Asia/Tokyo:20171001T150000
DTEND;TZID=Asia/Tokyo:20171001T170000
DTSTAMP:20260420T093138
CREATED:20170917T095550Z
LAST-MODIFIED:20170917T095741Z
UID:2977-1506870000-1506877200@bodocco.com
SUMMARY:[川崎市] ボードゲームで楽しくワイワイあそぼう★の会
DESCRIPTION:◆対象：小学生以上　※何かあった場合に責任が取れませんので、小学生のみの参加はご遠慮ください。 \n「最近、ＴＶやネットで『ボードゲーム』って聞くけど、ボードゲームって何！？」\nそんな方々を対象にしたビギナー向けボードゲーム会です※！ \n「家で子どもと！」\n「おじいちゃんやおばあちゃんと一緒に！」\n「大勢の友達と！」 \nボードゲームは色々な場所で活躍できます◎ \n※もちろん、ビギナー以外の方の参加もＯＫですが、ご紹介するゲームはビギナー向けのゲームですので、ご注意ください。 \n◆場所：\nパサールベース（新城テラスの奥）\n〒211-0045\n神奈川県川崎市中原区上新城２丁目７−１ セシーズ・イシイ７ \n◆定員：30名程度 \n◆費用：高校生まで　500円　　それ以上　1\,000円 \n◆販売：やります◎ \n◆FBページ：\nhttps://www.facebook.com/wakuwakulab/events/ \n
URL:https://bodocco.com/event/wakulab/
LOCATION:中原区上新城2-7-1 セシーズ・イシイ7\, 川崎市\, 神奈川県\, 211-0045\, Japan
GEO:35.5880876;139.630605
X-APPLE-STRUCTURED-LOCATION;VALUE=URI;X-ADDRESS=中原区上新城2-7-1 セシーズ・イシイ7 川崎市 神奈川県 211-0045 Japan;X-APPLE-RADIUS=500;X-TITLE=中原区上新城2-7-1 セシーズ・イシイ7:geo:139.630605,35.5880876
CATEGORIES:神奈川県
ATTACH;FMTTYPE=image/jpeg:https://bodocco.com/wp-content/uploads/2017/09/wakulab.jpg
END:VEVENT
END:VCALENDAR