BEGIN:VCALENDAR
VERSION:2.0
PRODID:-//Bodocco - ぼどっこ - ECPv4.5.9//NONSGML v1.0//EN
CALSCALE:GREGORIAN
METHOD:PUBLISH
X-WR-CALNAME:Bodocco - ぼどっこ
X-ORIGINAL-URL:https://bodocco.com
X-WR-CALDESC:Events for Bodocco - ぼどっこ
BEGIN:VEVENT
DTSTART;TZID=Asia/Tokyo:20170617T110000
DTEND;TZID=Asia/Tokyo:20170617T190000
DTSTAMP:20260422T161021
CREATED:20170622T061351Z
LAST-MODIFIED:20171208T054944Z
UID:2241-1497697200-1497726000@bodocco.com
SUMMARY:[日立市] 海駅Rest
DESCRIPTION:今、密かなブームになりつつある知的頭脳ゲーム。子供の遊び？いいえ‼︎大人も頭脳勝負で真剣に楽しめます‼︎ \nボードゲームが初めての方も、インストラクターが遊び方やルールをレクチャーいたしますので、安心してボードゲームを楽しむ事ができます。\nさらに2ゲームまで無料です。\n見学だけでも、大丈夫です。 \n※途中参加、途中退出可能 \n■タイムスケジュール\n8:30〜9:30　朝ヨガ\n9:30〜11:00　海駅Rest 読書会\n11:00〜19:00　海駅Rest ボードゲーム会 \n■参加費・各種割引一覧\n基本1000円 \n学生無料\n初参加割引　500円\n夫婦・カップル割引　2人で1人分（1000円）\nファミリー割引　何人でも1家族で1人分（1000円）\n友達割引　500円\nSNS書き込み割引　500円\nフライヤー割引 　500円\n朝ヨガ・読書会割引 　500円\nサンセット割引　夕方16:00以降　500円 \n予約不要です。 \n
URL:https://bodocco.com/event/umiekirest/2017-06-17/
LOCATION:幸町1-1-2\, 日立市\, 茨城県\, 317-0073\, Japan
GEO:36.5914577;140.661455
X-APPLE-STRUCTURED-LOCATION;VALUE=URI;X-ADDRESS=幸町1-1-2 日立市 茨城県 317-0073 Japan;X-APPLE-RADIUS=500;X-TITLE=幸町1-1-2:geo:140.661455,36.5914577
CATEGORIES:茨城県
ATTACH;FMTTYPE=image/jpeg:https://bodocco.com/wp-content/uploads/2017/06/umiekirest.jpg
END:VEVENT
END:VCALENDAR