BEGIN:VCALENDAR
VERSION:2.0
PRODID:-//Bodocco - ぼどっこ - ECPv4.5.9//NONSGML v1.0//EN
CALSCALE:GREGORIAN
METHOD:PUBLISH
X-WR-CALNAME:Bodocco - ぼどっこ
X-ORIGINAL-URL:https://bodocco.com
X-WR-CALDESC:Events for Bodocco - ぼどっこ
BEGIN:VEVENT
DTSTART;TZID=Asia/Tokyo:20170918T143000
DTEND;TZID=Asia/Tokyo:20170918T163000
DTSTAMP:20260420T111010
CREATED:20170824T054624Z
LAST-MODIFIED:20170905T142201Z
UID:2853-1505745000-1505752200@bodocco.com
SUMMARY:[武蔵野市] わいわい楽しくボードゲーム
DESCRIPTION:※このイベントは、2年生以上の小学生と保護者が対象です \n今回はパーティー系ゲームでわいわい遊びます！\n\nボードゲーム・カードゲームには多くの楽しみ方がありますが、今回のイベントは勝ち負けはあるものの、そんなことは大した問題じゃない、かる～い感じでとにかく楽しく遊びます。 \nボードゲームに慣れてなくても大丈夫。わいわい一緒に遊びませんか！！ \n\nお申し込みはこちらから\nhttp://hanyu-school.com/u-tankids/ \n
URL:https://bodocco.com/event/u-tankids-2017-09-18/
LOCATION:吉祥寺本町1-35-14 ユニアス七井F-2\, 武蔵野市\, 東京都\, 180-0004\, Japan
GEO:35.703736;139.584809
X-APPLE-STRUCTURED-LOCATION;VALUE=URI;X-ADDRESS=吉祥寺本町1-35-14 ユニアス七井F-2 武蔵野市 東京都 180-0004 Japan;X-APPLE-RADIUS=500;X-TITLE=吉祥寺本町1-35-14 ユニアス七井F-2:geo:139.584809,35.703736
CATEGORIES:東京都
ATTACH;FMTTYPE=image/jpeg:https://bodocco.com/wp-content/uploads/2017/08/u-tankids-1.jpeg
END:VEVENT
END:VCALENDAR