BEGIN:VCALENDAR
VERSION:2.0
PRODID:-//Bodocco - ぼどっこ - ECPv4.5.9//NONSGML v1.0//EN
CALSCALE:GREGORIAN
METHOD:PUBLISH
X-WR-CALNAME:Bodocco - ぼどっこ
X-ORIGINAL-URL:https://bodocco.com
X-WR-CALDESC:Events for Bodocco - ぼどっこ
BEGIN:VEVENT
DTSTART;TZID=Asia/Tokyo:20171009T100000
DTEND;TZID=Asia/Tokyo:20171009T120000
DTSTAMP:20260420T111205
CREATED:20170421T063038Z
LAST-MODIFIED:20171007T122242Z
UID:3234-1507543200-1507550400@bodocco.com
SUMMARY:[西宮市] はじめてのボードゲーム（3～5歳向け）
DESCRIPTION:■—————————————————–□\nはじめてのボードゲーム（3～5歳向け）\n□—————————————————–■ \nボードゲームが大好きな方はもちろんのこと\nボードゲームが気になっている方\n家族でやってみたいけどどれを買ったらいいか迷っている方\n保育所、幼稚園、学童などでボードゲームの導入を考えている方\nなどにお勧めのイベントです \n【イベント概要】\n「ボードゲーム」と聞けば、少し前までは、「一部のマニア」がするものというイメージが支配的でした。しかし、近年、ドイツ製を中心としたボードゲームが、20～30代の若者の間で密かなブームになっているだけでなく、子育て中のご家庭や学校、そして地域のコミュニティの子ども会などでもその「学習効果」や「社交性」が俄かに注目され、じわじわ広がっています。\nボードゲームの魅力はなんと言っても遊んで楽しいことにありますが、とりわけ遊びが学びそのものである子どもたちにとっては、人と人との円滑なコミュニケーションを促すと同時に、様々な能力（記憶力、規範性の尊重、忍耐力、集中力、観察力、判断力、交渉力、戦略的思考、協調性、計算力、勝敗の結果を受け入れる潔さなど）を養うには絶好の機会と言えます。\nそこで、おもちゃひろば～Toys’ Campusでは、2～5才ぐらいまでのお子様と保護者を対象とした「はじめてのボードゲーム」と、6歳以上向けの「ボードゲーム道場」の二つのイベントを開催いたします。\nお子様だけでなく保護者の方もご一緒に楽しんでいただけるボードゲーム体験イベント、この機会にぜひお気軽にご参加ください～ \n〔対象〕3～5才ぐらいのお子様と保護者の方\n〔参加費〕おひとり 800円\n※家族割 親子一組 1500円（3人目から一人追加につき500円）\n〔定員〕15名（予約不要ですが、当日、定員に達したら締め切らせていただく場合がございます） \n  \n・対象年齢はあくまでも目安です。\n・対象年齢外のご兄弟・姉妹さんのご同伴も歓迎です（0才児は無料）。\n・イベント中はToys’ Campusのおもちゃで遊んでいただくこともできます。\n・未就学のお子様は、保護者の方のご同伴をお願いします。\n・小学生は、お子様のみでのご参加も歓迎です。ただし、小学三年生までのお子様は、送り迎えのみ保護者様のご同伴をお願いします。 \n【申し込み先】\n〔メール〕cafeludens@gmail.com\n〔電話〕0798-61-7723／070-5350-1972（赤尾） \n
URL:https://bodocco.com/event/toyscampus_hajimete-2017-10-09/
LOCATION:羽衣町6-4 アイビー羽衣 201\, 西宮市\, 兵庫県\, 662-0051\, Japan
GEO:34.7407344;135.3274247
X-APPLE-STRUCTURED-LOCATION;VALUE=URI;X-ADDRESS=羽衣町6-4 アイビー羽衣 201 西宮市 兵庫県 662-0051 Japan;X-APPLE-RADIUS=500;X-TITLE=羽衣町6-4 アイビー羽衣 201:geo:135.3274247,34.7407344
CATEGORIES:兵庫県
ATTACH;FMTTYPE=image/jpeg:https://bodocco.com/wp-content/uploads/2017/04/toys100901.jpg
ORGANIZER;CN="%E3%81%8A%E3%82%82%E3%81%A1%E3%82%83%E3%81%B2%E3%82%8D%E3%81%B0%E3%80%80%EF%BD%9EToys%27%20Campus%EF%BD%9E":MAILTO:cafeludens@gmail.com
END:VEVENT
END:VCALENDAR