BEGIN:VCALENDAR
VERSION:2.0
PRODID:-//Bodocco - ぼどっこ - ECPv4.5.9//NONSGML v1.0//EN
CALSCALE:GREGORIAN
METHOD:PUBLISH
X-WR-CALNAME:Bodocco - ぼどっこ
X-ORIGINAL-URL:https://bodocco.com
X-WR-CALDESC:Events for Bodocco - ぼどっこ
BEGIN:VEVENT
DTSTART;TZID=Asia/Tokyo:20171009T130000
DTEND;TZID=Asia/Tokyo:20171009T170000
DTSTAMP:20260420T094403
CREATED:20170421T063038Z
LAST-MODIFIED:20180320T010749Z
UID:3239-1507554000-1507568400@bodocco.com
SUMMARY:[西宮市] 秋のボードゲーム・カフェ（6歳～向け）
DESCRIPTION:■—————————————————–□\n秋のボードゲーム・カフェ（6歳～向け）\n□—————————————————–■ \nボードゲーム好きの方はもちろんのこと\nボードゲームが気になっている方\n家族や友人とやってみたいけどどれを買ったらいいか迷っている方\nなど、初心者にはお勧めのイベントです。 \n〔対象〕6歳ぐらい～大人\n〔参加費〕おひとり1200円（3人目から一人追加につき1000円）\n※ ドリンク＆おやつ付\n〔定員〕約15名（予約不要ですが、当日、定員に達したら締め切らせていただく場合がございます） \n・対象年齢はあくまでも目安です。\n・対象年齢外のご兄弟・姉妹さんのご同伴も歓迎です（0才児は無料）。イベント中はToys’ Campusのおもちゃで遊んでいただくこともできます。\n・未就学のお子様は、保護者の方のご同伴をお願いします。\n・小学生は、お子様のみでのご参加も歓迎です。小学三年生までのお子様は、送り迎えのみ保護者様のご同伴をお願いします。\n・大人の方のみでの参加も歓迎です。 \n【申し込み先】\n〔メール〕cafeludens@gmail.com\n〔電話〕0798-61-7723／070-5350-1972（赤尾） \n
URL:https://bodocco.com/event/toyscampus_autumn2017/2017-10-09/
LOCATION:羽衣町6-4 アイビー羽衣 201\, 西宮市\, 兵庫県\, 662-0051\, Japan
GEO:34.7407344;135.3274247
X-APPLE-STRUCTURED-LOCATION;VALUE=URI;X-ADDRESS=羽衣町6-4 アイビー羽衣 201 西宮市 兵庫県 662-0051 Japan;X-APPLE-RADIUS=500;X-TITLE=羽衣町6-4 アイビー羽衣 201:geo:135.3274247,34.7407344
CATEGORIES:兵庫県
ATTACH;FMTTYPE=image/jpeg:https://bodocco.com/wp-content/uploads/2017/04/toys100902.jpg
ORGANIZER;CN="%E3%81%8A%E3%82%82%E3%81%A1%E3%82%83%E3%81%B2%E3%82%8D%E3%81%B0%E3%80%80%EF%BD%9EToys%27%20Campus%EF%BD%9E":MAILTO:cafeludens@gmail.com
END:VEVENT
END:VCALENDAR