BEGIN:VCALENDAR
VERSION:2.0
PRODID:-//Bodocco - ぼどっこ - ECPv4.5.9//NONSGML v1.0//EN
CALSCALE:GREGORIAN
METHOD:PUBLISH
X-WR-CALNAME:Bodocco - ぼどっこ
X-ORIGINAL-URL:https://bodocco.com
X-WR-CALDESC:Events for Bodocco - ぼどっこ
BEGIN:VEVENT
DTSTART;TZID=Asia/Tokyo:20170906T130000
DTEND;TZID=Asia/Tokyo:20170906T160000
DTSTAMP:20260422T084908
CREATED:20170905T091039Z
LAST-MODIFIED:20170905T091150Z
UID:2849-1504702800-1504713600@bodocco.com
SUMMARY:[札幌市] テーブルゲームで遊ぼう！！
DESCRIPTION:海外にはたくさんのカードゲーム・ボードゲームがあります。2歳半くらいから「同じ絵探し」などのカードゲームができ、幼稚園くらいになると、言葉や数、空間、記憶など、遊べる幅が広がります。小学生になると、推測したり、交渉したり。中学生以上になると大人と対等に作戦を立てたり、勉強の気分転換に短時間で盛り上がったりできます。 \n箱を見ているだけではわからないアナログゲーム。まずは大人がたっぷり楽しんでみませんか？\n2歳から大人まで、さまざまなゲームをご紹介します。お申込みの際にご希望をお知らせくださいね。おススメのゲームを持って行きます。 \n当日SUVACOにて、楽しい時間を過ごしましょう！ \n＜アナログゲームで遊ぼう@SUVACO＞\n場所:カフェSUVACO北海道 札幌市南区 川沿11条3丁目4-1\n講師:菊地三奈(mother’s　spaceミーナ代表/おもちゃコンサルタントマスター) \n☆当日は遊んだゲームの販売をします。ご希望の方はどうぞ。\n☆当日はカフェSUVACOにて別途ワンオーダーをお願い致します。\n☆駐車場に限りがあります。お申込みの時点で満車(7台)になりましたら締め切らせていただきます。\n☆お子様の年齢や、遊んでみたいゲームなどご希望がありましたら申し込みフォームよりお知らせください。 \nお申込みはこちら\nhttps://ws.formzu.net/dist/S86194286/ \n
URL:https://bodocco.com/event/suvaco/
LOCATION:南区川沿11条3丁目4-1\, 札幌市\, 北海道\, 005-0811\, Japan
GEO:42.9813718;141.3283125
X-APPLE-STRUCTURED-LOCATION;VALUE=URI;X-ADDRESS=南区川沿11条3丁目4-1 札幌市 北海道 005-0811 Japan;X-APPLE-RADIUS=500;X-TITLE=南区川沿11条3丁目4-1:geo:141.3283125,42.9813718
CATEGORIES:北海道
ATTACH;FMTTYPE=image/jpeg:https://bodocco.com/wp-content/uploads/2017/09/suvaco_kids.jpg
END:VEVENT
END:VCALENDAR