BEGIN:VCALENDAR
VERSION:2.0
PRODID:-//Bodocco - ぼどっこ - ECPv4.5.9//NONSGML v1.0//EN
CALSCALE:GREGORIAN
METHOD:PUBLISH
X-WR-CALNAME:Bodocco - ぼどっこ
X-ORIGINAL-URL:https://bodocco.com
X-WR-CALDESC:Events for Bodocco - ぼどっこ
BEGIN:VEVENT
DTSTART;TZID=Asia/Tokyo:20170916T130000
DTEND;TZID=Asia/Tokyo:20170916T193000
DTSTAMP:20260420T093625
CREATED:20170915T162942Z
LAST-MODIFIED:20180129T053545Z
UID:2963-1505566800-1505590200@bodocco.com
SUMMARY:[春日部市] 東埼玉ボードゲーム会
DESCRIPTION:春日部市にてボードゲーム会を開催します。 \nボードゲームをしたいけど周りにできる環境がない方、積みゲーを消化したい方、色々な人とゲームを通してコミュニケーションをとりたい方、オープン会行ってみたいけどいい機会がない方大歓迎です。家族で参加される方も多いです！\n毎回20名以上の方が参加されています。 \n参加表明はしてもしなくてもかまいません。\nふらーっときての飛び入り参加大歓迎です。\nゲーム初心者も多いので気軽にご参加ください。 \nボードゲームって何？人生ゲームしか知らない！って方でもスタッフに言っていただければ丁寧に説明します！ \n■開催場所\nウイングハット春日部\n埼玉県春日部市谷原新田1557-1 \n■ペットボトルの飲み物配布あり\n■飲食物持ち込み自由\n■途中参加途中退室自由、飛び入り参加歓迎\n◼︎無料駐車場198台分あります \n◾︎アクセス\n朝日バス：\n春日部駅西口から『ウイング・ハット春日部』行き→『ウイング・ハット春日部』下車(約20分)\nせんげん台駅西口から『ウイング・ハット春日部』行き→『ウイング・ハット春日部』下車(約15分) \n■参加費\n500円〔高校生以下無料〕 \n■注意事項\n・上履きを持参ください。\n・小学生の方は保護者同伴でよろしくお願いします。\n・ゴミは各自持ち帰りよろしくお願いします。\n・マナーを大事にして平和に遊びましょう！\n・TRPG、トレーディングカードゲーム、ゲーム機を用いたゲームはご遠慮願います。\n・マルチの勧誘等はご遠慮ください。 \n初心者、お一人様、ボードゲームに、興味のある方大歓迎です。\n皆様で和気藹々とボードゲームで遊びましょう！\nボードゲームの持ち込みは歓迎です。\n主催者も大量のゲームを持っていくので手ぶらでも問題はありません。\nゆるゆる平和な会なのでオープン会初心者の方も気を張らず気軽にご参加ください！！\nボードゲームと楽しい時間を過ごしましょう！ \n
URL:https://bodocco.com/event/saitama_board/2017-09-16/
LOCATION:谷原新田1557-1\, 春日部市\, 埼玉県\, 344-0035\, Japan
GEO:35.9505098;139.7506015
X-APPLE-STRUCTURED-LOCATION;VALUE=URI;X-ADDRESS=谷原新田1557-1 春日部市 埼玉県 344-0035 Japan;X-APPLE-RADIUS=500;X-TITLE=谷原新田1557-1:geo:139.7506015,35.9505098
CATEGORIES:埼玉県
ATTACH;FMTTYPE=image/jpeg:https://bodocco.com/wp-content/uploads/2017/09/IMG_20170916_011750.jpg
END:VEVENT
END:VCALENDAR