BEGIN:VCALENDAR
VERSION:2.0
PRODID:-//Bodocco - ぼどっこ - ECPv4.5.9//NONSGML v1.0//EN
CALSCALE:GREGORIAN
METHOD:PUBLISH
X-WR-CALNAME:Bodocco - ぼどっこ
X-ORIGINAL-URL:https://bodocco.com
X-WR-CALDESC:Events for Bodocco - ぼどっこ
BEGIN:VEVENT
DTSTART;TZID=Asia/Tokyo:20170708T100000
DTEND;TZID=Asia/Tokyo:20170708T210000
DTSTAMP:20260422T180227
CREATED:20170621T061907Z
LAST-MODIFIED:20171127T063222Z
UID:2229-1499508000-1499547600@bodocco.com
SUMMARY:[大田区] ミスボド蒲田
DESCRIPTION:人数：250人まで \n蒲田駅の近くで、ボードゲームを、のんべんだらりと遊ぶだけのオフ会です。\n参加資格は特にありません。お気軽にお越しいただければと存じます。\n初めての方も、女性の方も、お子さんと一緒の方も、なるべくあたたかく歓迎して、すんなり入って楽しめるようがんばります。 \nこういった場に慣れている方は、リードいただけると助かります。お好きなゲームはご自由に持ち込んで頂き、自由に卓を立ててください。 \n会の名前は、主催の好物がミステリとボードゲームであることに由来します。 \n■参加方法\n当日、現地に直接、お越しください。\n下記の通り、事前申し込みを頂けると助かります。 \nunjyou@gmail.com宛にメールをお送り頂くか、Twitterで@unjyoukairou宛にreply頂くか（ロックは外してください）、mixi内コミュニティに書き込み頂くか、公式サイト内エントリにコメント頂けると、人数把握できて助かります。\n事前の参加表明で、定員に達してしまうこともあるので、連絡いただくことを推奨します。\nもちろん、表明した後でのキャンセルもOKです、お気軽に。 \n■タイムスケジュール\n【09:45 – 10:00】会場設営\n【10:00 – 10:15】開会、受付開始\n【10:15 – 20:30】フリータイム\n【20:30 – 20:45】片付け\n【20:45 – 21:00】解散\n【21:00 – 21:30】完全撤収\n【21:30 – 23:00】二次会（居酒屋にて。3\,500円程度） \n■部屋割り\n【第2教室】受付、ドリンクコーナー、ゲーム置き場\n【第3教室】ゲーム部屋\n【第5教室】謎解き企画部屋\n【第6教室】ゲーム部屋\n【第7教室】ゲーム部屋\n【第9教室】ゲーム部屋 \n
URL:https://bodocco.com/event/mysboard/2017-07-08/
LOCATION:新蒲田1-18-23\, 大田区\, 東京都\, 144-0054\, Japan
GEO:35.5574627;139.7110029
X-APPLE-STRUCTURED-LOCATION;VALUE=URI;X-ADDRESS=新蒲田1-18-23 大田区 東京都 144-0054 Japan;X-APPLE-RADIUS=500;X-TITLE=新蒲田1-18-23:geo:139.7110029,35.5574627
CATEGORIES:東京都
ATTACH;FMTTYPE=image/png:https://bodocco.com/wp-content/uploads/2017/06/unjyoukairou.png
ORGANIZER;CN="%E3%83%9F%E3%82%B9%E3%83%9C%E3%83%89%E8%92%B2%E7%94%B0":MAILTO:unjyou＠gmail.com
END:VEVENT
END:VCALENDAR