BEGIN:VCALENDAR
VERSION:2.0
PRODID:-//Bodocco - ぼどっこ - ECPv4.5.9//NONSGML v1.0//EN
CALSCALE:GREGORIAN
METHOD:PUBLISH
X-WR-CALNAME:Bodocco - ぼどっこ
X-ORIGINAL-URL:https://bodocco.com
X-WR-CALDESC:Events for Bodocco - ぼどっこ
BEGIN:VEVENT
DTSTART;TZID=Asia/Tokyo:20170811T130000
DTEND;TZID=Asia/Tokyo:20170811T160000
DTSTAMP:20260422T145054
CREATED:20170808T044853Z
LAST-MODIFIED:20170808T044853Z
UID:2565-1502456400-1502467200@bodocco.com
SUMMARY:[大分市] ボードゲーム無料体験会@大分南部公民館
DESCRIPTION:大分市南部公民館でボードゲームでゆった〜り遊びませんか?\n初心者の方でも大歓迎!遊び方から説明します。\n\n【参加費用】 \n無料です。どなたでも参加可能ですのでお気軽にお越しください。\n途中参加、途中退場して頂いて構いません。\nまた年齢制限もありませんので、お子様から大人の方まで何人でもお越しください。\n\n\n\n\n【参加方法】\n\n・ツイッターアカウントをお持ちの方は、ダイレクトメッセージ（@morisako777）にてご連絡ください。\n・インスタグラムアカウントをお持ちの方は、ダイレクトメッセージ（morisako777）にてご連絡ください。\n\n【ご注意】\nこの体験会は「ボードゲームダイスキー!」主催のもと、たくさんの方々にボードゲームを楽しく体験して頂くことが目的です。勝敗にこだわらず楽しんで頂ければと思います。\nむしろ「こんなボードゲームあるよ」「教えてあげるよ」という方がいらっしゃいましたら、遠慮なくもりさこまでご連絡ください。かなり喜びます。\n\n
URL:https://bodocco.com/event/morisako777/
LOCATION:大字曲1113番地\, 大分市\, 大分県\, 870-0946\, Japan
GEO:33.2019485;131.6120192
X-APPLE-STRUCTURED-LOCATION;VALUE=URI;X-ADDRESS=大字曲1113番地 大分市 大分県 870-0946 Japan;X-APPLE-RADIUS=500;X-TITLE=大字曲1113番地:geo:131.6120192,33.2019485
CATEGORIES:大分県
END:VEVENT
END:VCALENDAR