BEGIN:VCALENDAR
VERSION:2.0
PRODID:-//Bodocco - ぼどっこ - ECPv4.5.9//NONSGML v1.0//EN
CALSCALE:GREGORIAN
METHOD:PUBLISH
X-WR-CALNAME:Bodocco - ぼどっこ
X-ORIGINAL-URL:https://bodocco.com
X-WR-CALDESC:Events for Bodocco - ぼどっこ
BEGIN:VEVENT
DTSTART;TZID=Asia/Tokyo:20170909T130000
DTEND;TZID=Asia/Tokyo:20170909T153000
DTSTAMP:20260420T164254
CREATED:20170518T071512Z
LAST-MODIFIED:20170908T062331Z
UID:2892-1504962000-1504971000@bodocco.com
SUMMARY:[小平市] 子どもとボードゲームで遊ぶ会 特別版
DESCRIPTION:対象は、小学生くらい～大人まで \n月1回土曜日に開催しているボードゲーム会の特別版です。\n公民館のイベント「友・遊こどもまつり」と共催する形で実施します。\n（公民館のイベントは10:00開始ですが、ボードゲームは13:00~ です） \n内容自体は、大量にボードゲームを持ち込み子どもとガーッバーッと遊ぶいつもどおりのやつです。 \n申し込みはいりません。お気軽にご参加ください。 \n
URL:https://bodocco.com/event/kodaira-2017-09-09/
LOCATION:小川町2-1325\, 小平市\, 東京都\, 187-0032\, Japan
GEO:35.7277664;139.4765284
X-APPLE-STRUCTURED-LOCATION;VALUE=URI;X-ADDRESS=小川町2-1325 小平市 東京都 187-0032 Japan;X-APPLE-RADIUS=500;X-TITLE=小川町2-1325:geo:139.4765284,35.7277664
CATEGORIES:東京都
ATTACH;FMTTYPE=image/jpeg:https://bodocco.com/wp-content/uploads/2017/05/kodaira_special.jpg
ORGANIZER;CN="%E5%B0%8F%E5%B9%B3%E3%83%9C%E3%83%BC%E3%83%89%E3%82%B2%E3%83%BC%E3%83%A0%E4%BA%A4%E6%B5%81%E4%BC%9A":MAILTO:sugichans@nifty.com
END:VEVENT
END:VCALENDAR