BEGIN:VCALENDAR
VERSION:2.0
PRODID:-//Bodocco - ぼどっこ - ECPv4.5.9//NONSGML v1.0//EN
CALSCALE:GREGORIAN
METHOD:PUBLISH
X-WR-CALNAME:Bodocco - ぼどっこ
X-ORIGINAL-URL:https://bodocco.com
X-WR-CALDESC:Events for Bodocco - ぼどっこ
BEGIN:VEVENT
DTSTART;TZID=Asia/Tokyo:20170916T180000
DTEND;TZID=Asia/Tokyo:20170916T220000
DTSTAMP:20260420T093443
CREATED:20170915T081708Z
LAST-MODIFIED:20180414T153116Z
UID:2939-1505584800-1505599200@bodocco.com
SUMMARY:[高知市] フリークス土佐道路店　ボドゲ交流会
DESCRIPTION:初心者歓迎🎵食禁止その他お店ルール厳守。\n遊びたいゲーム募集！\n駐車場店裏北側 \n参加費\n大人300円、中高生200円、小学生以下無料 \n
URL:https://bodocco.com/event/freaksplus/2017-09-16/
LOCATION:朝倉甲507-7\, 高知市\, 高知県\, 780-8061\, Japan
GEO:33.5415186;133.495056
X-APPLE-STRUCTURED-LOCATION;VALUE=URI;X-ADDRESS=朝倉甲507-7 高知市 高知県 780-8061 Japan;X-APPLE-RADIUS=500;X-TITLE=朝倉甲507-7:geo:133.495056,33.5415186
CATEGORIES:高知県
ATTACH;FMTTYPE=image/jpeg:https://bodocco.com/wp-content/uploads/2017/09/freaksplus.jpg
END:VEVENT
END:VCALENDAR