BEGIN:VCALENDAR
VERSION:2.0
PRODID:-//Bodocco - ぼどっこ - ECPv4.5.9//NONSGML v1.0//EN
CALSCALE:GREGORIAN
METHOD:PUBLISH
X-WR-CALNAME:Bodocco - ぼどっこ
X-ORIGINAL-URL:https://bodocco.com
X-WR-CALDESC:Events for Bodocco - ぼどっこ
BEGIN:VEVENT
DTSTART;TZID=Asia/Tokyo:20171014T130000
DTEND;TZID=Asia/Tokyo:20171014T220000
DTSTAMP:20260420T081104
CREATED:20170917T102502Z
LAST-MODIFIED:20180912T073335Z
UID:2986-1507986000-1508018400@bodocco.com
SUMMARY:[静岡市] 静岡ボードゲーム会 ニケ！
DESCRIPTION:静岡ボードゲーム会『ニケ！』 開催します！ \n場所 ：グランシップ\n会費 ：500円(中学生以下300円)\n定員 ：60人 \n▼アクセス\n東静岡駅南口より徒歩3分\n住所 ：〒422-8005 静岡県静岡市駿河区池田79-4\n駐車場：1時間200円(グランシップご利用の方は1時間100円) \n参加方法 ： Twitter（https://twitter.com/dominion_asbb） \nダイレクトメッセージまたはリプライでご連絡下さい。\n追ってこちらよりご連絡させていただきます。 \n※ゲーム会に持ち込むゲームですがこちらでもご用意することができますが、何か遊びたいゲームがあればご持参ください。 \n！注意事項！\n・貴重品等の管理は各自でお願い致します。紛失、盗難等があった場合、責任は負いかねます。\n・飲酒、喫煙はご遠慮ください。\n・トレーディングカードゲーム、デジタルゲームの持ち込みはご遠慮ください。\n・共有の場に置かれたゲームは大切に扱って下さい。\n・室内は飲食可能ですが、ゲーム卓での飲食はご遠慮下さい。(ペットボトル等蓋付の飲み物は可)\n・政治・宗教の勧誘等はご遠慮下さい。\n・ゴミは各自持ち帰るようご協力お願い致します。 \nよろしくお願い致します！😊 \n
URL:https://bodocco.com/event/dominion_asbb/2017-10-14/
LOCATION:駿河区池田79-4\, 静岡市\, 静岡県\, 422-8005\, Japan
GEO:34.9856922;138.4171478
X-APPLE-STRUCTURED-LOCATION;VALUE=URI;X-ADDRESS=駿河区池田79-4 静岡市 静岡県 422-8005 Japan;X-APPLE-RADIUS=500;X-TITLE=駿河区池田79-4:geo:138.4171478,34.9856922
CATEGORIES:静岡県
ATTACH;FMTTYPE=image/jpeg:https://bodocco.com/wp-content/uploads/2017/09/dominion_asbb-1.jpeg
END:VEVENT
END:VCALENDAR