BEGIN:VCALENDAR
VERSION:2.0
PRODID:-//Bodocco - ぼどっこ - ECPv4.5.9//NONSGML v1.0//EN
CALSCALE:GREGORIAN
METHOD:PUBLISH
X-WR-CALNAME:Bodocco - ぼどっこ
X-ORIGINAL-URL:https://bodocco.com
X-WR-CALDESC:Events for Bodocco - ぼどっこ
BEGIN:VEVENT
DTSTART;TZID=Asia/Tokyo:20170611T130000
DTEND;TZID=Asia/Tokyo:20170611T200000
DTSTAMP:20260422T160701
CREATED:20170609T055954Z
LAST-MODIFIED:20180831T062757Z
UID:2157-1497186000-1497211200@bodocco.com
SUMMARY:[鶴岡市] blattゲーム会
DESCRIPTION:13時過ぎ(大抵14時前後)より20時過ぎまで開催する予定です。 \n当会の公開ゲーム会は事前予約不要／途中入退場自由／参加費200円となっております。\n高校生以下または初回参加の方、見学は無料ですので覗いてみたい／遊んでみたいという方はお気軽にどうぞ。 \n参加してみたいという方は以下の詳細をご覧下さい。\n鶴岡市第三コミセンでのゲーム会詳細（2017年度版）\n※これまでに一回以上参加してくださった方は特に読む必要はありません。 \nそれでは皆様宜しくお願いします。 \n
URL:https://bodocco.com/event/blatt/2017-06-11/
LOCATION:泉町5-30\, 鶴岡市\, 山形県\, 997-0033\, Japan
GEO:38.7298497;139.8279249
X-APPLE-STRUCTURED-LOCATION;VALUE=URI;X-ADDRESS=泉町5-30 鶴岡市 山形県 997-0033 Japan;X-APPLE-RADIUS=500;X-TITLE=泉町5-30:geo:139.8279249,38.7298497
CATEGORIES:山形県
ATTACH;FMTTYPE=image/jpeg:https://bodocco.com/wp-content/uploads/2017/06/blatt.jpg
END:VEVENT
END:VCALENDAR