BEGIN:VCALENDAR
VERSION:2.0
PRODID:-//Bodocco - ぼどっこ - ECPv4.5.9//NONSGML v1.0//EN
CALSCALE:GREGORIAN
METHOD:PUBLISH
X-WR-CALNAME:Bodocco - ぼどっこ
X-ORIGINAL-URL:https://bodocco.com
X-WR-CALDESC:Events for Bodocco - ぼどっこ
BEGIN:VEVENT
DTSTART;TZID=Asia/Tokyo:20170611T100000
DTEND;TZID=Asia/Tokyo:20170611T200000
DTSTAMP:20260422T173927
CREATED:20170606T061406Z
LAST-MODIFIED:20180524T095557Z
UID:2082-1497175200-1497211200@bodocco.com
SUMMARY:[札幌市] あぷりこっと☆じゃむ ボードゲーム会
DESCRIPTION:★当イベントは「事前申し込み必須」です★\nスペースの都合、予め人数のお知らせをお願いします。 \n※家族割有\n※初参加者300円 \n予め、規約をご一読ください。\n定例会に参加される方は、上記全てに同意いただいたとみなします。 \nお申込みは、下記Twitterアカウント or Facebookイベントまでご連絡ください。\nhttps://twitter.com/nishizaki21\nhttps://www.facebook.com/apricot.kirari.Jam/ \n
URL:https://bodocco.com/event/apri_kirari_jam/2017-06-11/
LOCATION:手稲区手稲本町3条1丁目3-41\, 札幌市\, 北海道\, 006-0023\, Japan
GEO:43.1142399;141.2422098
X-APPLE-STRUCTURED-LOCATION;VALUE=URI;X-ADDRESS=手稲区手稲本町3条1丁目3-41 札幌市 北海道 006-0023 Japan;X-APPLE-RADIUS=500;X-TITLE=手稲区手稲本町3条1丁目3-41:geo:141.2422098,43.1142399
CATEGORIES:北海道
ATTACH;FMTTYPE=image/jpeg:https://bodocco.com/wp-content/uploads/2017/06/apri.jpg
END:VEVENT
END:VCALENDAR