BEGIN:VCALENDAR
VERSION:2.0
PRODID:-//Bodocco - ぼどっこ - ECPv4.5.9//NONSGML v1.0//EN
CALSCALE:GREGORIAN
METHOD:PUBLISH
X-WR-CALNAME:Bodocco - ぼどっこ
X-ORIGINAL-URL:https://bodocco.com
X-WR-CALDESC:Events for Bodocco - ぼどっこ
BEGIN:VEVENT
DTSTART;TZID=Asia/Tokyo:20171001T130000
DTEND;TZID=Asia/Tokyo:20171001T220000
DTSTAMP:20260424T134945
CREATED:20170920T072644Z
LAST-MODIFIED:20170920T072652Z
UID:3042-1506862800-1506895200@bodocco.com
SUMMARY:[川崎市] 溝の口ボードゲーム会
DESCRIPTION:てくのかわさき(川崎市高津区溝口)でボードゲーム会を開催致します。 \n参加者の皆さんでゲームを持ち寄り、ワイワイボードゲームをやるための会です。\n\n当日集まった人で卓を作っていただき、各々好きなゲームをしていただければと思います。\n\n場所：てくのかわさき 1階 工作実習室 (JR南武線 武蔵溝ノ口駅 徒歩5分、東急大井町線 溝の口駅 徒歩5分)\n会費：500円\n定員：48人\n\n●ゲームの持ち込み、大歓迎です。\n\n\n●主催者が持ち込む予定のゲームリスト\n\n持ってる物リスト \n持ってきてほしいもの等ありましたら、事前にお知らせください。 \n\n質問等は @_the_potato までお願いしますm(_ _)m \n\n※途中参加・途中退室okです。\n\n※複数人での参加を希望される方は、人数をお知らせいただければと思います。\n\n※飲み物等のご用意は各自でお願いしております。会場は飲食可能です。 \n\n\n
URL:https://bodocco.com/event/_the_potato/
LOCATION:高津区溝口1-6-10\, 川崎市\, 神奈川県\, 213-0001\, Japan
GEO:35.5988151;139.6139897
X-APPLE-STRUCTURED-LOCATION;VALUE=URI;X-ADDRESS=高津区溝口1-6-10 川崎市 神奈川県 213-0001 Japan;X-APPLE-RADIUS=500;X-TITLE=高津区溝口1-6-10:geo:139.6139897,35.5988151
CATEGORIES:神奈川県
ATTACH;FMTTYPE=image/jpeg:https://bodocco.com/wp-content/uploads/2017/09/the_potato-1.jpg
END:VEVENT
END:VCALENDAR