BEGIN:VCALENDAR
VERSION:2.0
PRODID:-//Bodocco - ぼどっこ - ECPv4.5.9//NONSGML v1.0//EN
CALSCALE:GREGORIAN
METHOD:PUBLISH
X-WR-CALNAME:Bodocco - ぼどっこ
X-ORIGINAL-URL:https://bodocco.com
X-WR-CALDESC:Events for Bodocco - ぼどっこ
BEGIN:VEVENT
DTSTART;TZID=Asia/Tokyo:20170212T130000
DTEND;TZID=Asia/Tokyo:20170212T210000
DTSTAMP:20260419T141140
CREATED:20170127T155856Z
LAST-MODIFIED:20170314T162619Z
UID:358-1486904400-1486933200@bodocco.com
SUMMARY:[葛飾区]カクテル＆ボードゲーム会[おやこ広場あり]＠ぼどっこ
DESCRIPTION:お酒も楽しい！ボードゲームも楽しい！というわけで無作為に足し算しちゃう会in自由の庭！！大人も子供も楽しく遊びましょう！ \n当日は昼からゲームスペースとして開場致します。 \n◆初心者歓迎◆\nボードゲームっていう言葉自体を知らない人から、好きすぎて棚に入りきらなくなっている人までお気軽にご参加下さい。ルール説明から盛り上がる雰囲気作りまでスタッフにおまかせください！ \n◆お食事もできます◆\nフリーのちょっとしたお菓子もご準備していますが、13時～17時30分までは500円、17時30分以降は無料で特製のお料理をお召し上がりいただけます！ \n◆ドリンク飲み放題◆\nソフトドリンクは終日、アルコールは17時30分から飲み放題になります。それ以前は1杯500円になりますが、オリジナルカクテルなどご準備しています！ \n◆手ぶらでOK！◆\nボードゲーム・カードゲーム・パーティーゲーム多数用意しております。遊びたい気持ちと楽しむ心だけをポケットに入れてご来場いただけます。もちろん、お気に入りのゲームのお持ち込みも大歓迎です！ \n◆時間内遊び放題！◆\n13時～17時30分までは500円、17時30分～21時までは2\,000円で入退場自由になります。なお、1部から2部まで跨いでご参加の場合も2\,000円なので大変お得です！ \n参加費\n１部(13時～17時30分)ーーーー500円２部(17時30分～21時)ーーーー2\,000円両方参加ーーーーーーーーーー2\,000円 \nフード\nシェフ特製スパゲッティーーー500円大盛プラス200円子供盛り300円自家製ピクルスと気まぐれサラダがつきます(２部から無料になります) \nドリンク\nソフトドリンク無料特製カクテル各種ーーーー500円自家製リモンチェッローーーー500円(２部から無料になります) \n  \n会場について\n古民家をまるごと借りた会場になります。住宅地のなかにありますので夜間は「会場出たらお口にチャック」にご協力ください。会場にあるテーブルは４つ。10人がけｘ１ / ちゃぶ台ｘ３食べながら飲みながらテーブル、本気であそぶテーブル、こどもとあそぶテーブル…と自然とわかれているので、自由に卓を行き来してください(*^^*)  \nこどもも参加大歓迎！\n１部２部ともにおやこでの参加歓迎です。パパママといっしょに、ゆっくり楽しんでいってください♪\n						\n						\n						\n						\n						\n						\n						\n						 \n– お申込みはこちら –\n\n\n\n\n\n\n\n\n\n\n\n お名前 (必須)\n      \n メールアドレス (必須)\n      \n参加イベント\nアソボ！（土曜 13:00〜21:00）アソボKids！（日曜 13:00〜16:00） \n参加人数（必須） \n\nおとな（高校生以上）\n\n０人１人２人３人\n\n\nこども（小中学生）\n\n０人１人２人３人\n\n\n乳幼児\n\n０人１人２人３人\n\n\n好きなゲームは？\n      \n \n\n\n\n
URL:https://bodocco.com/event/212-kakubodo/
LOCATION:東京都葛飾区立石1-21-12\, 124-0012\, Japan
GEO:35.7377172;139.8501353
X-APPLE-STRUCTURED-LOCATION;VALUE=URI;X-ADDRESS=東京都葛飾区立石1-21-12 124-0012 Japan;X-APPLE-RADIUS=500;X-TITLE=東京都葛飾区立石1-21-12:geo:139.8501353,35.7377172
CATEGORIES:東京都
ATTACH;FMTTYPE=image/png:https://bodocco.com/wp-content/uploads/2017/01/kakubodo.png
ORGANIZER;CN="%E3%81%BC%E3%81%A9%E3%81%A3%E3%81%93":MAILTO:info@mail.bodocco.com
END:VEVENT
END:VCALENDAR