BEGIN:VCALENDAR
VERSION:2.0
PRODID:-//Bodocco - ぼどっこ - ECPv4.5.9//NONSGML v1.0//EN
CALSCALE:GREGORIAN
METHOD:PUBLISH
X-WR-CALNAME:Bodocco - ぼどっこ
X-ORIGINAL-URL:http://bodocco.com
X-WR-CALDESC:Events for Bodocco - ぼどっこ
BEGIN:VEVENT
DTSTART;TZID=Asia/Tokyo:20171103T100000
DTEND;TZID=Asia/Tokyo:20171103T120000
DTSTAMP:20260423T103732
CREATED:20171101T070647Z
LAST-MODIFIED:20171101T071106Z
UID:3470-1509703200-1509710400@bodocco.com
SUMMARY:[西宮市] ボードゲーム入門
DESCRIPTION:【当日参加ＯＫ！】\nボードゲームが大好きな方はもちろんのこと\nボードゲームが気になっている方\n家族でやってみたいけどどれを買ったらいいか迷っている方\n保育所、幼稚園、学童などでボードゲームの導入を考えている方\nなどにお勧めのイベントです \n【イベント概要】 \n「ボードゲーム」と聞けば、少し前までは、一部の「マニアックな人たち」がするものというイメージが支配的でした。しかし、近年、ドイツ製を中心としたボードゲームが、20～30代の若者の間で密かなブームになっているだけでなく、子育て中のご家庭や学校、そして地域のコミュニティの子ども会などでもその「学習効果」や「社交性」が俄かに注目され、じわじわ広がっています。 \nボードゲームの魅力はなんと言っても遊んで楽しいことにありますが、とりわけ遊びが学びそのものである子どもたちにとっては、人と人との円滑なコミュニケーションを促すと同時に、様々な能力（記憶力、規範性の尊重、忍耐力、集中力、観察力、判断力、交渉力、戦略的思考、協調性、計算力、勝敗の結果を受け入れる潔さなど）を養うには絶好の機会と言えます。 \nお子様だけでなく保護者の方もご一緒に楽しんでいただけるボードゲーム体験イベント、この機会にぜひお気軽にご参加ください～（大人の方のみでもご参加いただけます） \n＜10～12時　ボードゲーム入門＞\n3～5才ぐらいのお子様と保護者向けのボードゲーム体験イベントです。\n・対象年齢はあくまでも目安です。\n・４歳以上のお子様は保護者の同伴なしでも参加できます。ただし、送り迎えはお願いいたします。 \n料金　1\,200円\n3人目から一人追加につき1000円 \n－－－－ \n＜13～17時　ボードゲーム・カフェ＞\n6才以上向けのボードゲーム体験イベントです。\n・イベント中はToys’ Campusのおもちゃで遊んでいただくこともできます。\n・対象年齢外のご兄弟・姉妹さんのご同伴も歓迎です（0才児は無料）。\n・未就学のお子様は、保護者の方のご同伴をお願いします。 \n料金　800円\n（家族割）親子一組：1500円（3人目から一人追加につき500円）\n※ ０歳児は無料 \n
URL:http://bodocco.com/event/toys_bunka/
LOCATION:羽衣町6-4 アイビー羽衣 201\, 西宮市\, 兵庫県\, 662-0051\, Japan
GEO:34.7407344;135.3274247
X-APPLE-STRUCTURED-LOCATION;VALUE=URI;X-ADDRESS=羽衣町6-4 アイビー羽衣 201 西宮市 兵庫県 662-0051 Japan;X-APPLE-RADIUS=500;X-TITLE=羽衣町6-4 アイビー羽衣 201:geo:135.3274247,34.7407344
CATEGORIES:兵庫県
ATTACH;FMTTYPE=image/jpeg:http://bodocco.com/wp-content/uploads/2017/11/toys_bunka.jpg
ORGANIZER;CN="%E3%81%8A%E3%82%82%E3%81%A1%E3%82%83%E3%81%B2%E3%82%8D%E3%81%B0%E3%80%80%EF%BD%9EToys%27%20Campus%EF%BD%9E":MAILTO:cafeludens@gmail.com
END:VEVENT
END:VCALENDAR