BEGIN:VCALENDAR
VERSION:2.0
PRODID:-//Bodocco - ぼどっこ - ECPv4.5.9//NONSGML v1.0//EN
CALSCALE:GREGORIAN
METHOD:PUBLISH
X-WR-CALNAME:Bodocco - ぼどっこ
X-ORIGINAL-URL:http://bodocco.com
X-WR-CALDESC:Events for Bodocco - ぼどっこ
BEGIN:VEVENT
DTSTART;TZID=Asia/Tokyo:20170507T100000
DTEND;TZID=Asia/Tokyo:20170507T200000
DTSTAMP:20260421T112713
CREATED:20170427T061244Z
LAST-MODIFIED:20170427T061644Z
UID:1752-1494151200-1494187200@bodocco.com
SUMMARY:[葛飾区]親子で楽しむアナログボードゲーム会＠サラダ館
DESCRIPTION:□■□■□■□　重要　□■□■□■□\n下記フォームからのお申込みをお願いします。\nhttp://form.os7.biz/f/9e258d4a/\n当日の混雑状況によって、フォームからのお申込みが無い方の入場をお断りすることがございます。予めご了承ください。\n□■□■□■□■□■□■□■□■□■□■ \n親子でも、大人だけでも、1人でもお気軽に！\nテーブル3台の小さなスペースです。だからこそ、初めましての人ともすぐに一緒に遊べるようにこちらでコーディネートさせていただきます。\n家族同士で遊んだり、子どもだけや大人だけで遊んだり、そんなボードゲーム会です。\n　\nサラダ館ゲーム会ではスタンプカードを導入。1人の参加で1個のスタンプをプレゼント。\n10個貯まると、なんと「ボードゲーム1000円引き」！\n　\n恒例となったランチタイムは12:30～13:30、ゲーム会会場を片付けてみんなで食べたいと思います。\nお弁当の持参、隣のお寿司、商店街もすぐ近くです。 \n♪:*:･･:*:･♪･:*:･･:*:･♪:*:･･:*:･♪ \n【アナログボードゲーム会inサラダ館】\n■時　間\n　10:00～20:00（途中参加・途中退出可）12:30～13:30ランチタイム\n■費　用\n　中学生以上500円、小学生200円、小学生未満無料\n　※中学生以下は保護者同伴\n■定　員\n　約20名。テーブルが一杯の状態では一旦参加をお待ちいただく場合がございます。ご了承ください。\n　毎回午前中が空いています。\n■備　考\n　飲物は各自ご用意ください。 \n※ゲームに参加できない年齢のお子さんは、保護者の方が目を離さないようにお願いします。ゲームを壊してしまう危険があると判断した場合は、参加をお断りする場合がございます。あらかじめご了承ください。 \n※お車でお越しの場合は、一時的に駐車スペースに停めていただくことはできますが長時間の駐車はご遠慮ください。コインパーキング等をご利用いただきますようお願いいたします。 \n※気に入ったゲームは、その場で購入できます。\n（Tポイントを付与します。Tポイントカードをお持ちください） \n
URL:http://bodocco.com/event/saladkan_oyako/2017-05-07/
LOCATION:白鳥2-2-10\, 葛飾区\, 東京都\, 125-0063\, Japan
GEO:35.7498795;139.8422131
X-APPLE-STRUCTURED-LOCATION;VALUE=URI;X-ADDRESS=白鳥2-2-10 葛飾区 東京都 125-0063 Japan;X-APPLE-RADIUS=500;X-TITLE=白鳥2-2-10:geo:139.8422131,35.7498795
CATEGORIES:東京都
ATTACH;FMTTYPE=image/jpeg:http://bodocco.com/wp-content/uploads/2017/04/saladkan.jpg
END:VEVENT
END:VCALENDAR