BEGIN:VCALENDAR
VERSION:2.0
PRODID:-//Bodocco - ぼどっこ - ECPv4.5.9//NONSGML v1.0//EN
CALSCALE:GREGORIAN
METHOD:PUBLISH
X-WR-CALNAME:Bodocco - ぼどっこ
X-ORIGINAL-URL:http://bodocco.com
X-WR-CALDESC:Events for Bodocco - ぼどっこ
BEGIN:VEVENT
DTSTART;TZID=Asia/Tokyo:20170909T100000
DTEND;TZID=Asia/Tokyo:20170909T200000
DTSTAMP:20260425T212407
CREATED:20170828T112931Z
LAST-MODIFIED:20180809T115106Z
UID:2788-1504951200-1504987200@bodocco.com
SUMMARY:[葛飾区] サラダ館のオープンボードゲーム会
DESCRIPTION:『オープンボードゲーム会』は、どなたでもご参加いただけるボードゲーム会です。\n（おもちゃコンサルタントの資格を有するゲームマスターが終始サポートする、4家族限定の『キッズ＆ビギナーゲーム会』も開催しています） \nご家族でもお友達とでもお一人様でも大歓迎！\nゲーマーも初心者も大歓迎！ \nゲーム販売店主催のゲーム会だから…\n＼ゲーム購入で実質参加費無料／\n￣￣￣￣￣￣￣￣￣￣￣￣￣￣￣\n★ゲームの持ち込み自由\n★ドリンク持ち込み自由（ペットボトルなど蓋付き限定）\n★時間制料金だから、都合に合わせて参加可能\n★家族参加なら、よりお得に♪ \n家族や友人と一緒に、\nその場に居合わせた人同士で、\n気軽に遊んでいただけます。 \n【参加条件】\n未就学児～小学生は保護者同伴\n※ルールを守れる大人として振舞えること\n※ゲームに参加できない年齢のお子様は、保護者の方が目を離さないようにお願いいたします。 \n【参加費（ゲーム購入で実質無料）】\n1時間　200円／人 \n＜ゲーム購入で実質参加費無料ってどういうこと？＞\nお帰りの際に参加費をお支払いいただきます。\nゲームをご購入の際は、ご家族全員の”参加費分を値引き“にします。 \n[例]\n家族3人で3時間プレイ後、\n2500円のゲーム購入の場合\n本来：\n参加費（200円×3時間×3人）1800円　+　ゲーム代（2500円）=　4300円\n⇒\n参加費分値引き：\n参加費（200円×3時間×3人）1800円　+　ゲーム代2500円 – 参加費1800円値引き\n= ＼2500円のお支払いでOK／\n（事前に家族登録を頂いたご家族が対象となります） \n※滞在時間のみ参加費発生\n※出入り自由（ゲーム代の割引は、参加当日終日有効） \n【お願い】\n〇遊び終わったら元の場所に片づけてから次のゲームを選びましょう。\n〇基本的に食事は禁止です。おやつなど軽食は手の汚れないものを、ゲーム中以外でお願いします。\n〇ゲームの破損・汚損時は、サラダ館スタッフにお申し出ください。\nプレイが不可能な状態→定価での買取をお願いします。\n修復、代用が可能な状態→500円の修復代をお願いします。\nプレイに支障が無い場合→お代は結構です。\n例：\n手札を隠す必要のあるゲームのカード破損→買取\n駒の紛失、ボード破損など→修復可能（買取の場合もあります）\nドブルなど手札を隠す必要のないゲームのカード破損→支障なし \n
URL:http://bodocco.com/event/saladkan-open/2017-09-09/
LOCATION:白鳥2-2-10\, 葛飾区\, 東京都\, 125-0063\, Japan
GEO:35.7498795;139.8422131
X-APPLE-STRUCTURED-LOCATION;VALUE=URI;X-ADDRESS=白鳥2-2-10 葛飾区 東京都 125-0063 Japan;X-APPLE-RADIUS=500;X-TITLE=白鳥2-2-10:geo:139.8422131,35.7498795
CATEGORIES:東京都
ATTACH;FMTTYPE=image/jpeg:http://bodocco.com/wp-content/uploads/2017/07/salad_kids.jpg
END:VEVENT
END:VCALENDAR