BEGIN:VCALENDAR
VERSION:2.0
PRODID:-//Bodocco - ぼどっこ - ECPv4.5.9//NONSGML v1.0//EN
CALSCALE:GREGORIAN
METHOD:PUBLISH
X-WR-CALNAME:Bodocco - ぼどっこ
X-ORIGINAL-URL:http://bodocco.com
X-WR-CALDESC:Events for Bodocco - ぼどっこ
BEGIN:VEVENT
DTSTART;TZID=Asia/Tokyo:20170513T130000
DTEND;TZID=Asia/Tokyo:20170513T170000
DTSTAMP:20260421T102548
CREATED:20170502T150818Z
LAST-MODIFIED:20180728T145414Z
UID:1807-1494680400-1494694800@bodocco.com
SUMMARY:[五泉市] ぼくらのひみつきちボードゲーム交流会
DESCRIPTION:大人も子どももみんなで遊ぶ\nぼくらのひみつきち \n\n皆さんボードゲーム会に参加してみませんか？ \n机の上で大きなビルを建てたり、みんなで協力して世界を救ったり、不思議な迷路に入って宝物を探したりー。頭もちょっぴり使うけれど誰でも遊べてすっごく楽しい海外のボードゲーム・カードゲームをみんなで遊びましょう。 \n教えたり、教わったり、子どもから大人までみんなで遊ぶ楽しさを味わいましょう！ \n\n※途中参加・途中退席可能\n※飛び入り参加OK \n対象：小学生～大人\n一人での参加も親子での参加も、友達との参加も大歓迎 \n参加費：大人100円 ／ 高校生以下無料 \n内容：ボードゲーム体験 \n
URL:http://bodocco.com/event/himitsukichi/2017-05-13/
LOCATION:太田1092-1\, 五泉市\, 新潟県\, 959-1825\, Japan
GEO:37.7446329;139.1833424
X-APPLE-STRUCTURED-LOCATION;VALUE=URI;X-ADDRESS=太田1092-1 五泉市 新潟県 959-1825 Japan;X-APPLE-RADIUS=500;X-TITLE=太田1092-1:geo:139.1833424,37.7446329
CATEGORIES:新潟県
ATTACH;FMTTYPE=image/jpeg:http://bodocco.com/wp-content/uploads/2017/05/C_sdkRYVYAEd5Gc.jpg
END:VEVENT
END:VCALENDAR