BEGIN:VCALENDAR
VERSION:2.0
PRODID:-//Bodocco - ぼどっこ - ECPv4.5.9//NONSGML v1.0//EN
CALSCALE:GREGORIAN
METHOD:PUBLISH
X-WR-CALNAME:Bodocco - ぼどっこ
X-ORIGINAL-URL:http://bodocco.com
X-WR-CALDESC:Events for Bodocco - ぼどっこ
BEGIN:VEVENT
DTSTART;TZID=Asia/Tokyo:20170423T130000
DTEND;TZID=Asia/Tokyo:20170423T163000
DTSTAMP:20260425T162351
CREATED:20170420T072330Z
LAST-MODIFIED:20180704T140546Z
UID:1677-1492952400-1492965000@bodocco.com
SUMMARY:[丸亀市] 親子で遊ぶボードゲーム会「たまご」
DESCRIPTION:こんなことを思ったことはないですか？\nうちの子は小さいけれど、何か面白いことをさせてあげられないかな？\n子どもと一緒に楽しく遊ぶものはないかな？\n自分もゲームが好きなので、子どもにも教えてあげたい \nこんなのを作ってみました。\n「たまご」は、みんなでボードゲームを遊ぶ場所です。\nお気軽にお越しください。 \n参加費：子どもは無料、大人は１００円\nただし、大人二人以上は全員無料\nたとえば「お父さんとお母さん」もしくは「お友達連れ」など \n「たまご」は、アナログ総合ゲームサークル「E.G.G.(Extended Gamer’ Groups)」／代表：偽人（にせびと）が開催しています。\nまた、丸亀市内の「木のおもちゃのお店U:hu（ウーフ）」さんの協力をいただいています。 \n
URL:http://bodocco.com/event/egg/2017-04-23/
LOCATION:南条町34 \, 丸亀市\, 香川県\, 763-0046\, Japan
GEO:34.2881508;133.793395
X-APPLE-STRUCTURED-LOCATION;VALUE=URI;X-ADDRESS=南条町34  丸亀市 香川県 763-0046 Japan;X-APPLE-RADIUS=500;X-TITLE=南条町34:geo:133.793395,34.2881508
CATEGORIES:香川県
ATTACH;FMTTYPE=image/jpeg:http://bodocco.com/wp-content/uploads/2017/04/egg-1.jpg
END:VEVENT
END:VCALENDAR