BEGIN:VCALENDAR
VERSION:2.0
PRODID:-//Bodocco - ぼどっこ - ECPv4.5.9//NONSGML v1.0//EN
CALSCALE:GREGORIAN
METHOD:PUBLISH
X-WR-CALNAME:Bodocco - ぼどっこ
X-ORIGINAL-URL:http://bodocco.com
X-WR-CALDESC:Events for Bodocco - ぼどっこ
BEGIN:VEVENT
DTSTART;TZID=Asia/Tokyo:20170514T100000
DTEND;TZID=Asia/Tokyo:20170514T153000
DTSTAMP:20260421T102655
CREATED:20170508T060935Z
LAST-MODIFIED:20171120T062409Z
UID:1841-1494756000-1494775800@bodocco.com
SUMMARY:[阿賀野市] 海外ボードゲーム体験会 in 水原代官所
DESCRIPTION:4歳のお子様から大人まで、みんなで遊べる魅力的なゲームを\nたくさん揃えてお待ちしております！ \n時間：　10:00～15:30 \n場所：　水原代官所（すいばらだいかんしょ）／ふるさと農業歴史資料館　内　体験コーナー \n参加費：　無料 \n企画・主催：　B.G.P! \nお問い合わせ：\nE-mail　b.g.ptime@gmail.com\ntwitter　https://twitter.com/BGPtime/ \n
URL:http://bodocco.com/event/bgp/2017-05-14/
LOCATION:外城町10-5\, 阿賀野市\, 新潟県\, 959-2022\, Japan
GEO:37.8396947;139.2314407
X-APPLE-STRUCTURED-LOCATION;VALUE=URI;X-ADDRESS=外城町10-5 阿賀野市 新潟県 959-2022 Japan;X-APPLE-RADIUS=500;X-TITLE=外城町10-5:geo:139.2314407,37.8396947
CATEGORIES:新潟県
ATTACH;FMTTYPE=image/jpeg:http://bodocco.com/wp-content/uploads/2017/05/bgp-1.jpg
ORGANIZER;CN="B.G.P%21":MAILTO:b.g.ptime@gmail.com
END:VEVENT
END:VCALENDAR