BEGIN:VCALENDAR
VERSION:2.0
PRODID:-//Bodocco - ぼどっこ - ECPv4.5.9//NONSGML v1.0//EN
CALSCALE:GREGORIAN
METHOD:PUBLISH
X-WR-CALNAME:Bodocco - ぼどっこ
X-ORIGINAL-URL:http://bodocco.com
X-WR-CALDESC:Events for Bodocco - ぼどっこ
BEGIN:VEVENT
DTSTART;TZID=Asia/Tokyo:20170513T183000
DTEND;TZID=Asia/Tokyo:20170513T210000
DTSTAMP:20260421T115311
CREATED:20170412T191950Z
LAST-MODIFIED:20170824T055711Z
UID:1642-1494700200-1494709200@bodocco.com
SUMMARY:[和歌山市] ボードゲーム会
DESCRIPTION:海外のボードゲームをおとなも  \n子どもも、楽しもう！！ \n参加費： ゲーム使用料、おとな・子ども　ひとり￥３００　（ゲーム持参・スタッフとして参加は無料）  \n
URL:http://bodocco.com/event/baobab/2017-05-13/
CATEGORIES:和歌山県
ATTACH;FMTTYPE=image/png:http://bodocco.com/wp-content/uploads/2017/04/baobab.png
END:VEVENT
END:VCALENDAR